Workbook

Sheet 예산현황(부서내부관리용)
B1: 2025년 3월 충북개발공사 안전보건 예산 사용 현황 (2025.03.31)
B2: 예산과목 | D2: 수립예산 | E2: 당초예산 | F2: 추경예산 | G2: 1월 | H2: 2월 | I2: 3월 | J2: 4월 | K2: 5월 | L2: 6월 | M2: 7월 | N2: 8월 | O2: 9월 | P2: 10월 | Q2: 11월 | R2: 12월 | S2: 소계 | T2: 가용예산 | U2: 잔여예산
B3: 지급수수료 | C3: 안전보건관리 위탁수수료 | D3: 17616000 | E3: 17616000 | G3: 1539850 | H3: 1539850 | I3: 1539850 | S3: =SUM(G3:R3) -> 4619550 | T3: =E3+F3-S3 -> 12996450 | U3: =D3+F3-S3 -> 12996450
C4: 재난안전컨설팅 수수료 | D4: 28875000 | E4: 28875000 | I4: 4290000 | S4: =SUM(G4:R4) -> 4290000 | T4: =E4+F4-S4 -> 24585000 | U4: =D4+F4-S4 -> 24585000
C5: ISO 22301 / 45001 컨설팅 | D5: 7500000 | E5: 7500000 | S5: =SUM(G5:R5) -> 0 | T5: =E5+F5-S5 -> 7500000 | U5: =D5+F5-S5 -> 7500000
C6: 소 계 | D6: =SUM(D3:D5) -> 53991000 | E6: =SUM(E3:E5) -> 53991000 | F6: =SUM(F3:F5) -> 0 | G6: =SUM(G3:G5) -> 1539850 | H6: =SUM(H3:H5) -> 1539850 | I6: =SUM(I3:I5) -> 5829850 | J6: =SUM(J3:J5) -> 0 | K6: =SUM(K3:K5) -> 0 | ... U6: =SUM(U3:U5) -> 45081450 | V6: =+S6/E6 -> 0.16501917
B7: 도서인쇄비 | C7: 안전 서적 및 제본 | D7: 2000000 | E7: 2000000 | S7: =SUM(G7:R7) -> 0 | T7: =E7+F7-S7 -> 2000000 | U7: =D7+F7-S7 -> 2000000
C8: 소 계 | D8: =SUM(D7:D7) -> 2000000 | E8: =SUM(E7:E7) -> 2000000 | F8: =SUM(F7:F7) -> 0 | G8: =SUM(G7:G7) -> 0 | H8: =SUM(H7:H7) -> 0 | I8: =SUM(I7:I7) -> 0 | J8: =SUM(J7:J7) -> 0 | K8: =SUM(K7:K7) -> 0 | ... U8: =SUM(U7:U7) -> 2000000 | V8: =+S8/E8 -> 0
B9: 사무용품비 | C9: 사무용품비 | D9: 1200000 | E9: 1200000 | G9: 248600 | H9: 38400 | I9: 69400 | S9: =SUM(G9:R9) -> 356400 | T9: =E9+F9-S9 -> 843600 | U9: =D9+F9-S9 -> 843600
C10: 소 계 | D10: =SUM(D9:D9) -> 1200000 | E10: =SUM(E9:E9) -> 1200000 | F10: =SUM(F9:F9) -> 0 | G10: =SUM(G9:G9) -> 248600 | H10: =SUM(H9:H9) -> 38400 | I10: =SUM(I9:I9) -> 69400 | J10: =SUM(J9:J9) -> 0 | K10: =SUM(K9:K9) -> 0 | ... U10: =SUM(U9:U9) -> 843600 | V10: =+S10/E10 -> 0.297
B11: 교육훈련비 | C11: 관리감독자 위탁교육 | D11: 1500000 | E11: 1500000 | S11: =SUM(G11:R11) -> 0 | T11: =E11+F11-S11 -> 1500000 | U11: =D11+F11-S11 -> 1500000
C12: 재난안전 종사자 교육 | D12: 1000000 | E12: 1000000 | S12: =SUM(G12:R12) -> 0 | T12: =E12+F12-S12 -> 1000000 | U12: =D12+F12-S12 -> 1000000
C13: 안전보건 교육 | D13: 2000000 | E13: 2000000 | G13: 0 | H13: 0 | I13: 0 | S13: =SUM(G13:R13) -> 0 | T13: =E13+F13-S13 -> 2000000 | U13: =D13+F13-S13 -> 2000000
C14: 소 계 | D14: =SUM(D11:D13) -> 4500000 | E14: =SUM(E11:E13) -> 4500000 | F14: =SUM(F11:F13) -> 0 | G14: =SUM(G11:G13) -> 0 | H14: =SUM(H11:H13) -> 0 | I14: =SUM(I11:I13) -> 0 | J14: =SUM(J11:J13) -> 0 | K14: =SUM(K11:K13) -> 0 | ... U14: =SUM(U11:U13) -> 4500000 | V14: =+S14/E14 -> 0
B15: 행사운영비 | C15: 권역별 안전감사협의회 | D15: 4000000 | E15: 4000000 | S15: =SUM(G15:R15) -> 0 | T15: =E15+F15-S15 -> 4000000 | U15: =D15+F15-S15 -> 4000000
C16: 재난안전 체험 | D16: 2000000 | E16: 2000000 | S16: =SUM(G16:R16) -> 0 | T16: =E16+F16-S16 -> 2000000 | U16: =D16+F16-S16 -> 2000000
C17: 소 계 | D17: =SUM(D15:D16) -> 6000000 | E17: =SUM(E15:E16) -> 6000000 | F17: =SUM(F15:F16) -> 0 | G17: =SUM(G15:G16) -> 0 | H17: =SUM(H15:H16) -> 0 | I17: =SUM(I15:I16) -> 0 | J17: =SUM(J15:J16) -> 0 | K17: =SUM(K15:K16) -> 0 | ... U17: =SUM(U15:U16) -> 6000000 | V17: =+S17/E17 -> 0
B18: 기타 복리 후생비 | C18: 안전모 및 안전화 | D18: 4000000 | E18: 4000000 | G18: 2745000 | I18: 1054000 | S18: =SUM(G18:R18) -> 3799000 | T18: =E18+F18-S18 -> 201000 | U18: =D18+F18-S18 -> 201000
C19: 구급함 | D19: 1000000 | E19: 1000000 | S19: =SUM(G19:R19) -> 0 | T19: =E19+F19-S19 -> 1000000 | U19: =D19+F19-S19 -> 1000000
C20: 기타 안전용품 | D20: 5000000 | E20: 5000000 | S20: =SUM(G20:R20) -> 0 | T20: =E20+F20-S20 -> 5000000 | U20: =D20+F20-S20 -> 5000000
C21: 소 계 | D21: =SUM(D18:D20) -> 10000000 | E21: =SUM(E18:E20) -> 10000000 | F21: =SUM(F18:F20) -> 0 | G21: =SUM(G18:G20) -> 2745000 | H21: =SUM(H18:H20) -> 0 | I21: =SUM(I18:I20) -> 1054000 | J21: =SUM(J18:J20) -> 0 | K21: =SUM(K18:K20) -> 0 | ... U21: =SUM(U18:U20) -> 6201000 | V21: =+S21/E21 -> 0.3799
B22: 중대시민재해 안전예산 | C22: 안전점검 | D22: =SUM(D23:D27) -> 9712000 | E22: =SUM(E23:E27) -> 9712000 | G22: =SUM(G23:G27) -> 815800 | H22: =SUM(H23:H27) -> 635800 | I22: =SUM(I23:I27) -> 635800 | J22: =SUM(J23:J27) -> 0 | K22: =SUM(K23:K27) -> 0 | L22: =SUM(L23:L27) -> 0 | M22: =SUM(M23:M27) -> 0 | N22: =SUM(N23:N27) -> 0 | ... R22: =SUM(R23:R27) -> 0 | S22: =SUM(G22:R22) -> 2087400 | T22: =E22+F22-S22 -> 7624600 | U22: =D22+F22-S22 -> 7624600
C23: - 휴담뜰 전기안전 수수료 | D23: 2112000 | E23: 2112000 | G23: 176000 | H23: 176000 | I23: 176000 | S23: =SUM(G23:R23) -> 528000 | T23: =E23+F23-S23 -> 1584000 | U23: =D23+F23-S23 -> 1584000
C24: - 전기안전 수수료 | D24: 3276000 | E24: 3276000 | G24: 272800 | H24: 272800 | I24: 272800 | S24: =SUM(G24:R24) -> 818400 | T24: =E24+F24-S24 -> 2457600 | U24: =D24+F24-S24 -> 2457600
C25: - 소방안전 수수료 | D25: 2244000 | E25: 2244000 | G25: 187000 | H25: 187000 | I25: 187000 | S25: =SUM(G25:R25) -> 561000 | T25: =E25+F25-S25 -> 1683000 | U25: =D25+F25-S25 -> 1683000
C26: - 저수조 수수료 | D26: 880000 | E26: 880000 | S26: =SUM(G26:R26) -> 0 | T26: =E26+F26-S26 -> 880000 | U26: =D26+F26-S26 -> 880000
C27: - 건물 소독 수수료 | D27: 1200000 | E27: 1200000 | G27: 180000 | S27: =SUM(G27:R27) -> 180000 | T27: =E27+F27-S27 -> 1020000 | U27: =D27+F27-S27 -> 1020000
C28: 보수 및 보강 | D28: =SUM(D29:D30) -> 5000000 | E28: =SUM(E29:E30) -> 5000000 | G28: =SUM(G29:G30) -> 0 | H28: =SUM(H29:H30) -> 0 | I28: =SUM(I29:I30) -> 110000 | J28: =SUM(J29:J30) -> 0 | K28: =SUM(K29:K30) -> 0 | L28: =SUM(L29:L30) -> 0 | M28: =SUM(M29:M30) -> 0 | N28: =SUM(N29:N30) -> 0 | ... R28: =SUM(R29:R30) -> 0 | S28: =SUM(G28:R28) -> 110000 | T28: =E28+F28-S28 -> 4890000 | U28: =D28+F28-S28 -> 4890000
C29: - 시설안전 유지보수 | D29: 2000000 | E29: 2000000 | S29: =SUM(G29:R29) -> 0 | T29: =E29+F29-S29 -> 2000000 | U29: =D29+F29-S29 -> 2000000
C30: - 기계장치 및 각종 수리비 | D30: 3000000 | E30: 3000000 | I30: 110000 | S30: =SUM(G30:R30) -> 110000 | T30: =E30+F30-S30 -> 2890000 | U30: =D30+F30-S30 -> 2890000
C31: 기타 | D31: =SUM(D32:D33) -> 7000000 | E31: =SUM(E32:E33) -> 7000000 | G31: =SUM(G32:G33) -> 22000 | H31: =SUM(H32:H33) -> 0 | I31: =SUM(I32:I33) -> 0 | J31: =SUM(J32:J33) -> 0 | K31: =SUM(K32:K33) -> 0 | L31: =SUM(L32:L33) -> 0 | M31: =SUM(M32:M33) -> 0 | N31: =SUM(N32:N33) -> 0 | ... R31: =SUM(R32:R33) -> 0 | S31: =SUM(G31:R31) -> 22000 | T31: =E31+F31-S31 -> 6978000 | U31: =D31+F31-S31 -> 6978000
C32: - 재난안전 교육비 | D32: 2000000 | E32: 2000000 | G32: 22000 | S32: =SUM(G32:R32) -> 22000 | T32: =E32+F32-S32 -> 1978000 | U32: =D32+F32-S32 -> 1978000
C33: - 근로자 안전교육 | D33: 5000000 | E33: 5000000 | S33: =SUM(G33:R33) -> 0 | T33: =E33+F33-S33 -> 5000000 | U33: =D33+F33-S33 -> 5000000
C34: 소 계 | D34: =+D22+D28+D31 -> 21712000 | E34: =+E22+E28+E31 -> 21712000 | F34: =+F22+F28+F31 -> 0 | G34: =+G22+G28+G31 -> 837800 | H34: =+H22+H28+H31 -> 635800 | I34: =+I22+I28+I31 -> 745800 | J34: =+J22+J28+J31 -> 0 | K34: =+K22+K28+K31 -> 0 | ... U34: =+U22+U28+U31 -> 19492600 | V34: =+S34/E34 -> 0.10221997
B35: 홍보기념품[안전 홍보 기념품] | D35: 4000000 | E35: 4000000 | I35: 3373500 | S35: =SUM(G35:R35) -> 3373500 | T35: =E35+F35-S35 -> 626500 | U35: =D35+F35-S35 -> 626500 | V35: =+S35/E35 -> 0.843375
B36: 안전 포상금 [우수사업장 포상] | D36: 2000000 | E36: 2000000 | S36: =SUM(G36:R36) -> 0 | T36: =E36+F36-S36 -> 2000000 | U36: =D36+F36-S36 -> 2000000 | V36: =+S36/E36 -> 0
B37: 회의비 | D37: =2880000/2 -> 1440000 | E37: 1440000 | H37: 332600 | S37: =SUM(G37:R37) -> 332600 | T37: =E37+F37-S37 -> 1107400 | U37: =D37+F37-S37 -> 1107400 | V37: =+S37/E37 -> 0.23097222
B38: 합 계 | D38: =+D6+D8+D10+D14+D17+D21+D35+D36+D37+D34 -> 106843000 | E38: =+E6+E8+E10+E14+E17+E21+E35+E36+E37+E34 -> 106843000 | F38: =+F6+F8+F10+F14+F17+F21+F35+F36+F37+F34 -> 0 | G38: =+G6+G8+G10+G14+G17+G21+G35+G36+G37+G34 -> 5371250 | H38: =+H6+H8+H10+H14+H17+H21+H35+H36+H37+H34 -> 2546650 | I38: =+I6+I8+I10+I14+I17+I21+I35+I36+I37+I34 -> 11072550 | J38: =+J6+J8+J10+J14+J17+J21+J35+J36+J37+J34 -> 0 | K38: =+K6+K8+K10+K14+K17+K21+K35+K36+K37+K34 -> 0 | ... U38: =+U6+U8+U10+U14+U17+U21+U35+U36+U37+U34 -> 87852550 | V38: =+S38/E38 -> 0.17774164
E39: 96959000
E41: =E38-E39 -> 9884000

Sheet 예산현황(26.3.31)
B1: 2026년 재단법인 고령문화관광재단 안전보건 예산 사용 현황 (2026.3.31.)
B2: 구 분 | C2: 내 용 | E2: 수립예산 | F2: 예산 | G2: 1분기 | H2: 2분기 | I2: 3분기 | J2: 4분기 | K2: 잔여예산 | L2: 집행 세부내역 | M2: 1월 | N2: 2월 | O2: 3월 | P2: 4월 | Q2: 5월 | R2: 6월 | S2: 7월 | T2: 8월 | U2: 9월 | V2: 10월 | W2: 11월 | X2: 12월 | Y2: 소계 | Z2: 가용예산 | AA2: 잔여예산
B3: 기타 복리 후생비 | C3: 보건 | D3: 건강검진 지원 | E3: 4200000 | F3: 4200000 | G3: 0 | K3: =F3-SUM(G3:J3) -> 4200000 | L3: 재단 임직원 대상 2026년도 12월 31일까지 진행예정 | Y3: =SUM(M3:X3) -> 0 | Z3: =F3+#REF!-Y3 -> #REF! | AA3: =E3+#REF!-Y3 -> #REF!
C4: 소 계 | E4: =SUM(E3:E3) -> 4200000 | F4: =SUM(F3:F3) -> 4200000 | G4: =SUM(G3:G3) -> 0 | K4: =SUM(K3:K3) -> 4200000 | M4: =SUM(M3:M3) -> 0 | N4: =SUM(N3:N3) -> 0 | O4: =SUM(O3:O3) -> 0 | P4: =SUM(P3:P3) -> 0 | Q4: =SUM(Q3:Q3) -> 0 | R4: =SUM(R3:R3) -> 0 | S4: =SUM(S3:S3) -> 0 | T4: =SUM(T3:T3) -> 0 | ... AA4: =SUM(AA3:AA3) -> #REF! | AB4: =+Y4/F4 -> 0
B5: 교육훈련비 | C5: 안전 | D5: 직원교육(법정교육 등) | E5: 3200000 | F5: 3200000 | G5: 140000 | K5: =F5-SUM(G5:J5) -> 3060000 | L5: 안전 및 보건 법정교육 포함 | Y5: =SUM(M5:X5) -> 0 | Z5: =F5+#REF!-Y5 -> #REF! | AA5: =E5+#REF!-Y5 -> #REF!
C6: 소 계 | E6: =SUM(E5:E5) -> 3200000 | F6: =SUM(F5:F5) -> 3200000 | G6: =SUM(G5:G5) -> 140000 | K6: =SUM(K5:K5) -> 3060000 | M6: =SUM(M5:M5) -> 0 | N6: =SUM(N5:N5) -> 0 | O6: =SUM(O5:O5) -> 0 | P6: =SUM(P5:P5) -> 0 | Q6: =SUM(Q5:Q5) -> 0 | R6: =SUM(R5:R5) -> 0 | S6: =SUM(S5:S5) -> 0 | T6: =SUM(T5:T5) -> 0 | ... AA6: =SUM(AA5:AA5) -> #REF! | AB6: =+Y6/F6 -> 0
B7: 사무관리비 | C7: 안전 | D7: 무인경비시스템 운영 | E7: 1320000 | F7: 1320000 | G7: 297000 | K7: =F7-SUM(G7:J7) -> 1023000 | Y7: =SUM(M7:X7) -> 0 | Z7: =F7+#REF!-Y7 -> #REF! | AA7: =E7+#REF!-Y7 -> #REF!
D8: 공기청정기 운영 | E8: 600000 | F8: 600000 | G8: =60920*3 -> 182760 | K8: =F8-SUM(G8:J8) -> 417240 | Y8: =SUM(M8:X8) -> 0 | Z8: =F8+#REF!-Y8 -> #REF! | AA8: =E8+#REF!-Y8 -> #REF!
C9: 소 계 | E9: =SUM(E7:E8) -> 1920000 | F9: =SUM(F7:F8) -> 1920000 | G9: =SUM(G7:G8) -> 479760 | K9: =SUM(K7:K8) -> 1440240 | M9: =SUM(M7:M8) -> 0 | N9: =SUM(N7:N8) -> 0 | O9: =SUM(O7:O8) -> 0 | P9: =SUM(P7:P8) -> 0 | Q9: =SUM(Q7:Q8) -> 0 | R9: =SUM(R7:R8) -> 0 | S9: =SUM(S7:S8) -> 0 | T9: =SUM(T7:T8) -> 0 | ... AA9: =SUM(AA7:AA8) -> #REF! | AB9: =+Y9/F9 -> 0
B10: 합 계 | E10: =E4+E6+E9 -> 9320000 | F10: =F4+F6+F9 -> 9320000 | G10: =G4+G6+G9 -> 619760 | K10: =K4+K6+K9 -> 8700240 | M10: =+#REF!+M4+M6+M9+#REF!+#REF!+#REF!+#REF! -> #REF! | N10: =+#REF!+N4+N6+N9+#REF!+#REF!+#REF!+#REF! -> #REF! | O10: =+#REF!+O4+O6+O9+#REF!+#REF!+#REF!+#REF! -> #REF! | P10: =+#REF!+P4+P6+P9+#REF!+#REF!+#REF!+#REF! -> #REF! | Q10: =+#REF!+Q4+Q6+Q9+#REF!+#REF!+#REF!+#REF! -> #REF! | R10: =+#REF!+R4+R6+R9+#REF!+#REF!+#REF!+#REF! -> #REF! | S10: =+#REF!+S4+S6+S9+#REF!+#REF!+#REF!+#REF! -> #REF! | T10: =+#REF!+T4+T6+T9+#REF!+#REF!+#REF!+#REF! -> #REF! | ... AA10: =+#REF!+AA4+AA6+AA9+#REF!+#REF!+#REF!+#REF! -> #REF! | AB10: =+Y10/F10 -> #REF!

Sheet 차인 분석
B2: 구 분 | C2: 2024년 | G2: 2025년
C3: 예 산 | D3: 실 적 | E3: 사용율 | G3: 안 전 | H3: 감 사 | I3: 합계(경평기준)
B4: 지급수수료 | C4: 104591 | D4: 70060 | E4: =+D4/C4 -> 0.66984731 | G4: =+('예산현황(26.3.31)'!#REF!+'예산현황(26.3.31)'!#REF!+'예산현황(26.3.31)'!#REF!)/1000 -> #REF! | H4: =+('예산현황(26.3.31)'!#REF!+'예산현황(26.3.31)'!#REF!+'예산현황(26.3.31)'!#REF!+'예산현황(26.3.31)'!#REF!)/1000 -> #REF! | I4: =+G4+H4 -> #REF!
B5: 도서인쇄비 | C5: 2000 | D5: 1360 | E5: =+D5/C5 -> 0.68 | G5: =+('예산현황(26.3.31)'!F3)/1000 -> 4200 | H5: =+('예산현황(26.3.31)'!#REF!+'예산현황(26.3.31)'!#REF!)/1000 -> #REF! | I5: =+G5+H5 -> #REF!
B6: 교육훈련비 | C6: 5700 | D6: 2996 | E6: =+D6/C6 -> 0.52561404 | G6: =+('예산현황(26.3.31)'!F5+'예산현황(26.3.31)'!#REF!+'예산현황(26.3.31)'!#REF!)/1000 -> #REF! | H6: =+'예산현황(26.3.31)'!#REF!/1000 -> #REF! | I6: =+G6+H6 -> #REF!
B7: 행사운영비 | C7: 1000 | D7: 820 | E7: =+D7/C7 -> 0.82 | G7: =+('예산현황(26.3.31)'!F7+'예산현황(26.3.31)'!F8)/1000 -> 1920 | H7: =+('예산현황(26.3.31)'!#REF!)/1000 -> #REF! | I7: =+G7+H7 -> #REF!
B8: 기타복리후생비 | C8: 5000 | D8: 4661 | E8: =+D8/C8 -> 0.9322 | G8: =+('예산현황(26.3.31)'!#REF!+'예산현황(26.3.31)'!#REF!+'예산현황(26.3.31)'!#REF!)/1000 -> #REF! | H8: 0 | I8: =+G8+H8 -> #REF!
B9: 회의비 | C9: 2880 | D9: 1978 | E9: =+D9/C9 -> 0.68680556 | G9: =+('예산현황(26.3.31)'!#REF!/1000) -> #REF! | H9: =+'예산현황(26.3.31)'!#REF!/1000 -> #REF! | I9: =+G9+H9 -> #REF!
B10: 홍보기념품 | C10: 4000 | D10: 2160 | E10: =+D10/C10 -> 0.54 | G10: =+'예산현황(26.3.31)'!#REF!/1000 -> #REF! | H10: =+'예산현황(26.3.31)'!#REF!/1000 -> #REF! | I10: =+G10+H10 -> #REF!
B11: 포상금 | C11: 4000 | D11: 700 | E11: =+D11/C11 -> 0.175 | G11: =+('예산현황(26.3.31)'!#REF!)/1000 -> #REF! | H11: =+('예산현황(26.3.31)'!#REF!+'예산현황(26.3.31)'!#REF!)/1000 -> #REF! | I11: =+G11+H11 -> #REF!
B12: 합 계 | C12: =SUM(C4:C11) -> 129171 | D12: =SUM(D4:D11) -> 84735 | E12: =+D12/C12 -> 0.6559909 | G12: =SUM(G4:G11) -> #REF! | H12: =SUM(H4:H11) -> #REF! | I12: =+G12+H12 -> #REF!
B14: 구 분 | C14: 2025년 (경평 기준) | G14: 2025년 (내부관리 기준)
C15: 안 전 | D15: 감 사 | E15: 합 계 | G15: 예산확정 | H15: 실적(1분기) | I15: 실적(2분기) | J15: 실적(3분기) | K15: 실적(4분기) | L15: 합 계 | M15: 잔여 | N15: 사용율
B16: 지급수수료 | C16: 53991 | D16: 50600 | E16: =SUM(C16:D16) -> 104591 | G16: =+'예산현황(부서내부관리용)'!E6/1000 -> 53991 | H16: =+'예산현황(부서내부관리용)'!S6/1000 -> 8909.55 | L16: =SUM(H16:K16) -> 8909.55 | M16: =+G16-L16 -> 45081.45 | N16: =+L16/G16 -> 0.16501917
B17: 도서인쇄비 | C17: 2000 | D17: 2000 | E17: =SUM(C17:D17) -> 4000 | G17: =+'예산현황(부서내부관리용)'!E8/1000 -> 2000 | H17: =+'예산현황(부서내부관리용)'!S8/1000 -> 0 | L17: =SUM(H17:K17) -> 0 | M17: =+G17-L17 -> 2000 | N17: =+L17/G17 -> 0
B18: 사무용품비 | G18: =+'예산현황(부서내부관리용)'!E10/1000 -> 1200 | H18: =+'예산현황(부서내부관리용)'!S10/1000 -> 356.4 | L18: =SUM(H18:K18) -> 356.4 | M18: =+G18-L18 -> 843.6 | N18: =+L18/G18 -> 0.297
B19: 교육훈련비 | C19: 4500 | D19: 1200 | E19: =SUM(C19:D19) -> 5700 | G19: =+'예산현황(부서내부관리용)'!E14/1000 -> 4500 | H19: =+'예산현황(부서내부관리용)'!S14/1000 -> 0 | L19: =SUM(H19:K19) -> 0 | M19: =+G19-L19 -> 4500 | N19: =+L19/G19 -> 0
B20: 행사운영비 | C20: 6000 | D20: 4000 | E20: =SUM(C20:D20) -> 10000 | G20: =+'예산현황(부서내부관리용)'!E17/1000 -> 6000 | H20: =+'예산현황(부서내부관리용)'!S17/1000 -> 0 | L20: =SUM(H20:K20) -> 0 | M20: =+G20-L20 -> 6000 | N20: =+L20/G20 -> 0
B21: 기타복리후생비 | C21: 10000 | D21: 0 | E21: =SUM(C21:D21) -> 10000 | G21: =+'예산현황(부서내부관리용)'!E21/1000 -> 10000 | H21: =+'예산현황(부서내부관리용)'!S21/1000 -> 3799 | L21: =SUM(H21:K21) -> 3799 | M21: =+G21-L21 -> 6201 | N21: =+L21/G21 -> 0.3799
B22: 중대시민재해 | G22: =+'예산현황(부서내부관리용)'!E34/1000 -> 21712 | H22: =+'예산현황(부서내부관리용)'!S34/1000 -> 2219.4 | L22: =SUM(H22:K22) -> 2219.4 | M22: =+G22-L22 -> 19492.6 | N22: =+L22/G22 -> 0.10221997
B23: 회의비 | C23: 1440 | D23: 1440 | E23: =SUM(C23:D23) -> 2880 | G23: =+'예산현황(부서내부관리용)'!E37/1000 -> 1440 | H23: =+'예산현황(부서내부관리용)'!S37/1000 -> 332.6 | L23: =SUM(H23:K23) -> 332.6 | M23: =+G23-L23 -> 1107.4 | N23: =+L23/G23 -> 0.23097222
B24: 홍보기념품 | C24: 4000 | D24: 4000 | E24: =SUM(C24:D24) -> 8000 | G24: =+'예산현황(부서내부관리용)'!E35/1000 -> 4000 | H24: =+'예산현황(부서내부관리용)'!S35/1000 -> 3373.5 | L24: =SUM(H24:K24) -> 3373.5 | M24: =+G24-L24 -> 626.5 | N24: =+L24/G24 -> 0.843375
B25: 포상금 | C25: 2000 | D25: 2000 | E25: =SUM(C25:D25) -> 4000 | G25: =+'예산현황(부서내부관리용)'!E36/1000 -> 2000 | H25: =+'예산현황(부서내부관리용)'!S36/1000 -> 0 | L25: =SUM(H25:K25) -> 0 | M25: =+G25-L25 -> 2000 | N25: =+L25/G25 -> 0
B26: 합 계 | C26: =SUM(C16:C25) -> 83931 | D26: =SUM(D16:D25) -> 65240 | E26: =SUM(C26:D26) -> 149171 | G26: =SUM(G16:G25) -> 106843 | H26: =SUM(H16:H25) -> 18990.45 | I26: =SUM(I16:I25) -> 0 | J26: =SUM(J16:J25) -> 0 | K26: =SUM(K16:K25) -> 0 | L26: =SUM(H26:K26) -> 18990.45 | M26: =+G26-L26 -> 87852.55 | N26: =+L26/G26 -> 0.17774164

Sheet Sheet1
B2: 예 산 과 목 | C2: 25년 예산 | D2: 1분기 집행 (1~3월) | F2: 잔여 예산 (4~12월) | G2: 비고
D3: 금 액 | E3: 사 용 율
B4: 지급수수료 | C4: 53991 | D4: 8910 | E4: =+D4/C4 -> 0.1650275 | F4: =+C4-D4 -> 45081
B5: 도서인쇄비 | C5: 2000 | E5: =+D5/C5 -> 0 | F5: =+C5-D5 -> 2000
B6: 사무용품비 | C6: 1200 | D6: 356 | E6: =+D6/C6 -> 0.29666667 | F6: =+C6-D6 -> 844
B7: 교육훈련비 | C7: 4500 | E7: =+D7/C7 -> 0 | F7: =+C7-D7 -> 4500
B8: 행사운영비 | C8: 6000 | E8: =+D8/C8 -> 0 | F8: =+C8-D8 -> 6000
B9: 기타 복리후생비 | C9: 10000 | D9: 3799 | E9: =+D9/C9 -> 0.3799 | F9: =+C9-D9 -> 6201
B10: 중대시민재해 안전예산 | C10: 21712 | D10: 2219 | E10: =+D10/C10 -> 0.10220155 | F10: =+C10-D10 -> 19493
B11: 홍보기념품 | C11: 4000 | D11: 3373 | E11: =+D11/C11 -> 0.84325 | F11: =+C11-D11 -> 627
B12: 안전 포상금 | C12: 2000 | E12: =+D12/C12 -> 0 | F12: =+C12-D12 -> 2000
B13: 회의비 | C13: 1440 | D13: 333 | E13: =+D13/C13 -> 0.23125 | F13: =+C13-D13 -> 1107
B14: 합 계 | C14: =SUM(C4:C13) -> 106843 | D14: =SUM(D4:D13) -> 18990 | E14: =+D14/C14 -> 0.17773743 | F14: =SUM(F4:F13) -> 87853

Sheet 예산요구서 견적서
A22: ISO45001/9001 사후관리 컨설팅 견적 | G22: ISO22301 사후관리 지원 컨설팅 견적
A44: ISO45001/9001 사후관리 컨설팅 견적
